BEGIN:VCALENDAR
VERSION:2.0
PRODID:-//eventon.com NONSGML v1.0//EN
CALSCALE:GREGORIAN
METHOD:PUBLISH
BEGIN:VEVENT
UID:69e9df771b707
DTSTAMP:20260423T085935Z
DTSTART:20260722T180000Z
DTEND:20260722T235900Z
LOCATION:
SUMMARY:Sundowner Sessions - The Wave Machine
DESCRIPTION:Join us every week throughout spring and summer as we welcome t
 he best musicians to soundtrack the magnificent Cornish sunset ☀️ 🎟
  FREE💺 No reservations\,  turn up and grab a seat🐶 Children &amp; 
 Dogs welcome☀️ Timings will vary slightly through the season as we chas
 e the golden glow.🍕 Our beach bars[..]\nhttps://www.lustyglaze.co.uk/eve
 nts/sundowner-sessions-the-wave-machine-26/
URL:https://www.lustyglaze.co.uk/events/sundowner-sessions-the-wave-machine-26/
END:VEVENT
END:VCALENDAR