BEGIN:VCALENDAR
VERSION:2.0
PRODID:-//eventon.com NONSGML v1.0//EN
CALSCALE:GREGORIAN
METHOD:PUBLISH
BEGIN:VEVENT
UID:69e4e10b782d8
DTSTAMP:20260419T140459Z
DTSTART:20260527T180000Z
DTEND:20260527T210000Z
LOCATION:
SUMMARY:Sundowner Sessions - Andy Quick
DESCRIPTION:Join us every week throughout spring and summer as we welcome t
 he best musicians to soundtrack the magnificent Cornish sunset.   FREE N
 o reservations\,  turn up and grab a seat Children &amp; Dogs welcome Tim
 ings will vary slightly through the season as we chase the golden glow. Ou
 r beach bars will be open\,  and takeaway[..]\nhttps://www.lustyglaze.co.uk
 /events/sundowner-sessions-andy-quick-26/
URL:https://www.lustyglaze.co.uk/events/sundowner-sessions-andy-quick-26/
END:VEVENT
END:VCALENDAR