BEGIN:VCALENDAR
VERSION:2.0
PRODID:-//eventon.com NONSGML v1.0//EN
CALSCALE:GREGORIAN
METHOD:PUBLISH
BEGIN:VEVENT
UID:69e9f3fb0fa83
DTSTAMP:20260423T102707Z
DTSTART:20260418T180000Z
DTEND:20260418T235900Z
LOCATION:
SUMMARY:Sundowner Sessions - Toby Webb
DESCRIPTION:Join us every week throughout spring and summer as we welcome t
 he best musicians to soundtrack the magnificent Cornish sunset.   FREE N
 o reservations\,  turn up and grab a seat Children &amp; Dogs welcome Tim
 ings will vary slightly through the season as we chase the golden glow. Ou
 r beach bars will be open\,  and takeaway[..]\nhttps://www.lustyglaze.co.uk
 /events/sundowner-sessions-toby-webb-26/
URL:https://www.lustyglaze.co.uk/events/sundowner-sessions-toby-webb-26/
END:VEVENT
END:VCALENDAR