BEGIN:VCALENDAR
VERSION:2.0
PRODID:-//eventon.com NONSGML v1.0//EN
CALSCALE:GREGORIAN
METHOD:PUBLISH
BEGIN:VEVENT
UID:69e9f7fc1b6a3
DTSTAMP:20260423T104412Z
DTSTART:20260708T180000Z
DTEND:20260708T230000Z
LOCATION:
SUMMARY:Sundowner Sessions - Daisy Clark
DESCRIPTION:Join us every week throughout spring and summer as we welcome t
 he best musicians to soundtrack the magnificent Cornish sunset.   FREE N
 o reservations\,  turn up and grab a seat Children &amp; Dogs welcome Tim
 ings will vary slightly through the season as we chase the golden glow. Ou
 r beach bars will be open\,  and takeaway[..]\nhttps://www.lustyglaze.co.uk
 /events/sundowner-sessions-daisy-clark-26/var/ri-1.l-L1
URL:https://www.lustyglaze.co.uk/events/sundowner-sessions-daisy-clark-26/var/ri-1.l-L1
END:VEVENT
END:VCALENDAR