BEGIN:VCALENDAR
VERSION:2.0
PRODID:-//eventon.com NONSGML v1.0//EN
CALSCALE:GREGORIAN
METHOD:PUBLISH
BEGIN:VEVENT
UID:69e737839958d
DTSTAMP:20260421T083827Z
DTSTART:20260412T150000Z
DTEND:20260412T235900Z
LOCATION:
SUMMARY:Sundowner Sessions - Sunset Social Club DJ's
DESCRIPTION:Join us every week throughout spring and summer as we welcome t
 he best musicians to soundtrack the magnificent Cornish sunset.  FREE No 
 reservations\,  turn up and grab a seat Children &amp; Dogs welcome Timin
 gs will vary slightly through the season as we chase the golden glow. Our 
 beach bars will be open\,  and takeaway[..]\nhttps://www.lustyglaze.co.uk/e
 vents/sundowner-sessions-sunset-social-club-26/
URL:https://www.lustyglaze.co.uk/events/sundowner-sessions-sunset-social-club-26/
END:VEVENT
END:VCALENDAR