BEGIN:VCALENDAR
VERSION:2.0
PRODID:-//eventon.com NONSGML v1.0//EN
CALSCALE:GREGORIAN
METHOD:PUBLISH
BEGIN:VEVENT
UID:69e4de2d768ea
DTSTAMP:20260419T135245Z
DTSTART:20260201T120000Z
DTEND:20260201T180000Z
LOCATION:
SUMMARY:Woodburner Sessions - DJ Sunset Social Club
DESCRIPTION:As we gradually immerse ourselves in the warm embrace of our lo
 vely cove here at Lusty\,  the cozy winter vibes are settling in once more.
  Can you feel it? We’re absolutely thrilled about the upcoming winter sea
 son! Fear not\,  for our weekly musical offerings continue. Join us every S
 unday for[..]\nhttps://www.lustyglaze.co.uk/events/woodburner-sessions-dj-s
 unset-social-club/var/ri-3.l-L1
URL:https://www.lustyglaze.co.uk/events/woodburner-sessions-dj-sunset-social-club/var/ri-3.l-L1
END:VEVENT
END:VCALENDAR