BEGIN:VCALENDAR
VERSION:2.0
PRODID:-//eventon.com NONSGML v1.0//EN
CALSCALE:GREGORIAN
METHOD:PUBLISH
BEGIN:VEVENT
UID:69ea39bbdc6c4
DTSTAMP:20260423T152443Z
DTSTART:20250927T170000Z
DTEND:20250927T230000Z
LOCATION:
SUMMARY:Disco Classics 2025
DESCRIPTION:Now a firm favourite in the annual Newquay events calendar\,  j
 oin us again as we celebrate the end of the summer season with the incredib
 le: DISCO CLASSICS Live! Disco songs you know and love re-invented by 20 pi
 ece orchestra Jazz Colossus &#8211; including music by: Sister Sledge &#821
 1; Chic &#8211;[..]\nhttps://www.lustyglaze.co.uk/events/disco-classics-202
 5/
URL:https://www.lustyglaze.co.uk/events/disco-classics-2025/
END:VEVENT
END:VCALENDAR