BEGIN:VCALENDAR
VERSION:2.0
PRODID:-//eventon.com NONSGML v1.0//EN
CALSCALE:GREGORIAN
METHOD:PUBLISH
BEGIN:VEVENT
UID:69e8fcd13d49b
DTSTAMP:20260422T165233Z
DTSTART:20250719T130000Z
DTEND:20250719T230000Z
LOCATION:
SUMMARY:Ibiza Club Classics - Odyssey 2025
DESCRIPTION:An EXCLUSIVE new show for 2025 LONGER. BIGGER. STRONGER. Featur
 ing the iconic 30 piece SYMPHONICA Orchestra Led by 4 x DMC World Champion 
 DJ Mr Switch Orchestra conducted by Miles Hancock (exclusive 2.5 hour show)
  Featuring support DJs: DELUXX | ALDO VANUCCI | SUNSET SOCIAL CLUB | + more
  Join[..]\nhttps://www.lustyglaze.co.uk/events/ibiza-club-classics-odyssey-
 2025/
URL:https://www.lustyglaze.co.uk/events/ibiza-club-classics-odyssey-2025/
END:VEVENT
END:VCALENDAR